BEGIN:VCALENDAR

VERSION:2.0

PRODID:-//hacksw/handcal//NONSGML v1.0//EN

BEGIN:VEVENT

UID:07cadc711f82f21539581badd5b2529b

DTSTAMP:20260421T123912Z

DTSTART:20260426T110000

DTEND:20260426T113000

SUMMARY:L28261205 - 1303/16-20 Belmore Street, WOLLONGONG NSW 2500

LOCATION:1303/16-20 Belmore Street, WOLLONGONG NSW 2500

END:VEVENT

END:VCALENDAR