BEGIN:VCALENDAR

VERSION:2.0

PRODID:-//hacksw/handcal//NONSGML v1.0//EN

BEGIN:VEVENT

UID:cb6c5984f1f0c54d6d7163a2a86d98d0

DTSTAMP:20260423T142804Z

DTSTART:20260426T130000

DTEND:20260426T133000

SUMMARY:L33956812 - 2/12 Dallas Street, KEIRAVILLE NSW 2500

LOCATION:2/12 Dallas Street, KEIRAVILLE NSW 2500

END:VEVENT

END:VCALENDAR