BEGIN:VCALENDAR

VERSION:2.0

PRODID:-//hacksw/handcal//NONSGML v1.0//EN

BEGIN:VEVENT

UID:a41e9e96def290c574ead5b3968bbc65

DTSTAMP:20260423T205320Z

DTSTART:20260426T113000

DTEND:20260426T123000

SUMMARY:L18818343 - 904/264-268 Keira Street, WOLLONGONG NSW 2500

LOCATION:904/264-268 Keira Street, WOLLONGONG NSW 2500

END:VEVENT

END:VCALENDAR