BEGIN:VCALENDAR

VERSION:2.0

PRODID:-//hacksw/handcal//NONSGML v1.0//EN

BEGIN:VEVENT

UID:077c6097263b2720307b2fa5a520ad4e

DTSTAMP:20260421T124937Z

DTSTART:20260424T124500

DTEND:20260424T131500

SUMMARY:L28261205 - 1303/16-20 Belmore Street, WOLLONGONG NSW 2500

LOCATION:1303/16-20 Belmore Street, WOLLONGONG NSW 2500

END:VEVENT

END:VCALENDAR