BEGIN:VCALENDAR

VERSION:2.0

PRODID:-//hacksw/handcal//NONSGML v1.0//EN

BEGIN:VEVENT

UID:91affe5c2428045b70584fe912502924

DTSTAMP:20260423T142307Z

DTSTART:20260424T134500

DTEND:20260424T141500

SUMMARY:L33956812 - 2/12 Dallas Street, KEIRAVILLE NSW 2500

LOCATION:2/12 Dallas Street, KEIRAVILLE NSW 2500

END:VEVENT

END:VCALENDAR