BEGIN:VCALENDAR

VERSION:2.0

PRODID:-//hacksw/handcal//NONSGML v1.0//EN

BEGIN:VEVENT

UID:3e4f23dab445d61197f4a66c8149b32d

DTSTAMP:20260423T205320Z

DTSTART:20260424T120000

DTEND:20260424T123000

SUMMARY:L18818343 - 904/264-268 Keira Street, WOLLONGONG NSW 2500

LOCATION:904/264-268 Keira Street, WOLLONGONG NSW 2500

END:VEVENT

END:VCALENDAR