BEGIN:VCALENDAR

VERSION:2.0

PRODID:-//hacksw/handcal//NONSGML v1.0//EN

BEGIN:VEVENT

UID:8080b847399a15089e28199f30f181d0

DTSTAMP:20260421T124648Z

DTSTART:20260423T170000

DTEND:20260423T173000

SUMMARY:L28261205 - 1303/16-20 Belmore Street, WOLLONGONG NSW 2500

LOCATION:1303/16-20 Belmore Street, WOLLONGONG NSW 2500

END:VEVENT

END:VCALENDAR