BEGIN:VCALENDAR

VERSION:2.0

PRODID:-//hacksw/handcal//NONSGML v1.0//EN

BEGIN:VEVENT

UID:48a62eee0ebb1372b66da08218a4d71d

DTSTAMP:20260419T111728Z

DTSTART:20260419T113000

DTEND:20260419T123000

SUMMARY:L18735063 - 113/264-268 Keira Street, WOLLONGONG NSW 2500

LOCATION:113/264-268 Keira Street, WOLLONGONG NSW 2500

END:VEVENT

END:VCALENDAR